BEGIN:VCALENDAR
VERSION:2.0
CALSCALE:GREGORIAN
PRODID:-//MyApp//Calendar 1.0//EN
BEGIN:VEVENT
METHOD:PUBLISH
UID:48640@regionalniportaly.cz
DTSTAMP:20260424T101808Z
DTSTART;VALUE=DATE:20250322
DTEND;VALUE=DATE:20250323
SUMMARY:RYVO Band\, Hoboes Revival Alva\, Satisfakce\, Grey Smoke
DESCRIPTION:RYVO Band - kapela jazzového kytaristy Romana Pokorného (již u vás hrál)\, tentokráte s programem textů Wabiho Ryvoly\, ke kterým Roman dělal hudbu a následně je natočil na album Blues Dřevorubce.Hoboes Revival Alva&nbsp\;- známá trampswingová kapela\, která hraje po velkých festivalech a je moc oblíbená zejména u brněnského publika.Satisfakce - rodinná trampská kapela hrající převážně písně do roku 1960 tak\, jak se hrávaly kdysi.Grey Smoke&nbsp\;- trampswingová kapela hrající např. I po boku slavných K.T.O.\, jež vystupovali s Waldemarem Matuškou. Rádi dodávají &nbsp\;starým skladbám latinsko-americký nádech\, ačkoliv byly napsány u nás.
LOCATION:Černošice
END:VEVENT
END:VCALENDAR