BEGIN:VCALENDAR
VERSION:2.0
CALSCALE:GREGORIAN
PRODID:-//MyApp//Calendar 1.0//EN
BEGIN:VEVENT
METHOD:PUBLISH
UID:49739@regionalniportaly.cz
DTSTAMP:20260423T210103Z
DTSTART;VALUE=DATE:20250115
DTEND;VALUE=DATE:20250116
SUMMARY:Hetty Kate Trio (AUS)
DESCRIPTION:Hetty Kate (AUS) – zpěv\, Libor Šmoldas (CZ) – kytara\, Nick Haywood (AUS) – kontrabasJazzová zpěvačka Hetty Kate vyrostla v Anglii a Austrálii a nyní žije ve Francii. Vydala devět alb a ozdobila klubová i festivalová pódia od Nového Zélandu po New York. "Hetty je jedna z nejlepších swingově-jazzových zpěvaček na současné scéně"\, říká americký jazzový kritik Will Friedwald. Navíc je Hetty na pódiu opravdová frontmanka a bavička a její přirozená muzikálnost a vokální čistota zaručují\, že je její hlas okamžitě rozpoznatelný. Původně byla školena v klasickém repertoáru\, od kterého ale brzy utekla k jazzu. Hettin přístup ctí skladatele jazzových skladeb tím\, že se zpěvačka drží melodie i textu a pokud používá improvizaci\, tak vždy způsobem\, který nikdy nic neubírá z příběhu písně. Svoji hudební kariéru si upevnila účinkováním v muzikálech v londýnském West Endu\, kam z Paříže pravidelně zajíždí. "Zpívat ty krásné a známé songy Leonarda Bernsteina je mým obzvlášť velkým potěšením\," upřesňuje sama zpěvačka.
LOCATION:Černošice
END:VEVENT
END:VCALENDAR