BEGIN:VCALENDAR
VERSION:2.0
CALSCALE:GREGORIAN
PRODID:-//MyApp//Calendar 1.0//EN
BEGIN:VEVENT
METHOD:PUBLISH
UID:49743@regionalniportaly.cz
DTSTAMP:20260424T020605Z
DTSTART;VALUE=DATE:20250313
DTEND;VALUE=DATE:20250314
SUMMARY:Robert Křesťan & Druhá Tráva
DESCRIPTION:Skupinu Druhá tráva charakterizují dva výrazné znaky – autorská a interpretační výjimečnost zpěváka\, textaře a překladatele Roberta Křesťana a instrumentální zdatnost ostatních členů skupiny. Kapela Druhá tráva byla hned od svého vzniku (zal. 1991) řazena mezi špičku na folk &amp\; country scéně nejen v České či Slovenské republice. Přestože bývá často označována jako bluegrassová\, už od počátku existence mixuje více stylů.Druhá tráva dosud vydala 21 alb v Čechách i USA a je několikanásobným držitelem ocenění APH Anděl v kategorii Folk a Country. Jako jedna z mála českých kapel pravidelně každý rok absolvuje turné po Spojených státech amerických s velice příznivým ohlasem. Za album Díl první získala v roce 2021 Druhá tráva Anděla v kategorii folk a Robert Křesťan vstoupil do Síně slávy. V říjnu 2022 vydala skupina nové album nazvané Díl druhý\, které bylo opět nominováno na Cenu Anděl.
LOCATION:Černošice
END:VEVENT
END:VCALENDAR