BEGIN:VCALENDAR
VERSION:2.0
CALSCALE:GREGORIAN
PRODID:-//MyApp//Calendar 1.0//EN
BEGIN:VEVENT
METHOD:PUBLISH
UID:50462@regionalniportaly.cz
DTSTAMP:20260423T223956Z
DTSTART;VALUE=DATE:20250211
DTEND;VALUE=DATE:20250212
SUMMARY:The Jujubes (UK)
DESCRIPTION:Jeden zpěv\, jedna harmonika a dvě kytary jsou to\, co dělá The Jujubes autentickým triem s jedinečným bluesovým zvukem. Sandy\, Nikki a Pete tvoří trio sídlící v Londýně\, kam se dostali přes Skotsko\, Nottingham a Hackney. The Jujubes\, se zrodili z vášně udržet bluesový žánr naživu a rádi připomínají citát Willieho Dixona „Blues jsou kořeny a ostatní hudba jsou plody". Jejich CD bylo nominováno na UK Blues Album of the Year 2023.Citujme jeden z&nbsp\;mnoha tiskových ohlasů“ Jujubes jsou elegantní\, syroví a velmi\, velmi výrazní. Je to bluesrock\, je to osvěžující\, není to zastaralé\, není to ani staré. Vokály jsou vznešené\, plně nabité energií.“ Ashleigh Vaughan – Magazine RGM.Přijďte si užít atmosféru londýnského pubu.Kapela hraje ve složení Nikki Brooks&nbsp\;– zpěv\, Sandy Michie&nbsp\;– kytara a Pete Sim&nbsp\;– kytara a&nbsp\;harmonika.
LOCATION:Černošice
END:VEVENT
END:VCALENDAR