BEGIN:VCALENDAR
VERSION:2.0
CALSCALE:GREGORIAN
PRODID:-//MyApp//Calendar 1.0//EN
BEGIN:VEVENT
METHOD:PUBLISH
UID:50799@regionalniportaly.cz
DTSTAMP:20260423T223912Z
DTSTART;VALUE=DATE:20250207
DTEND;VALUE=DATE:20250208
SUMMARY:Na kus řeči s... Davidem Prachařem
DESCRIPTION:Výborný herec David Prachař\, známý z mnoha divadelních\, televizních i filmových rolí\, zavítá 7.2.2024 v 19:00 na brandýský zámek\, do divadelního sálu. Jeho vyprávění je vždy skvělým zážitkem\, který byste si neměli nechat ujít.Navíc se před tím\, v 17:00 hodin\, zúčastní vernisáže výstavy v Infocentru - Kočárovna\, na které bude spolu s výtvarnicí Blankou Boháčovou vystavovat díla ze své volné tvorby\, inspirované lidovým řezbářstvím.\nPředprodej vstupenek v Infocentru Kočárovna u Zámku Brandýs nad Labem\, cena 250 Kč.
LOCATION:Brandýs nad Labem-Stará Boleslav
END:VEVENT
END:VCALENDAR