BEGIN:VCALENDAR
VERSION:2.0
CALSCALE:GREGORIAN
PRODID:-//MyApp//Calendar 1.0//EN
BEGIN:VEVENT
METHOD:PUBLISH
UID:51353@regionalniportaly.cz
DTSTAMP:20260424T084551Z
DTSTART;VALUE=DATE:20250330
DTEND;VALUE=DATE:20250331
SUMMARY:Dana Chytilová – recitál šansonů Hany Hegerové
DESCRIPTION:HANA HEGEROVÁ je královnou českého šansonu\, jednou z nejvýraznějších osobností české populární hudby. K jejímu odkazu se dnes hlásí celá řada zpěvaček\, ale je jen málo těch\, které dokážou vtisknout písničkám "české Edith Piaf"\, jak je Hana Hegerová právem často označována\, vlastní podobu\, najít v nich svůj příběh a přenést je na posluchače.Právě takovou zpěvačkou-šansoniérkou je bezesporu DANA CHYTILOVÁ - dáma\, která má písně Hany Hegerové doslova "pod kůží"\, neboť je poslouchala už od útlého mládí a dodneška se dokáže na pódiu s jejich poselstvím zcela ztotožnit. Se svým pojetím písní "Lásko prokletá"\, "Milord"\, "Čerešně"\, "Levandulová"\, "Denim Blue" a mnoha dalších si získává posluchače po celé republice a bývá označována za důstojnou pokračovatelku odkazu Hany Hegerové.V&nbsp\;černošickém Club Kině tak máte 30.3. od 20.00 jedinečnou příležitost uslyšet slavné melodie\, které ožívají v projevu Dany Chytilové a zažít tak neopakovatelnou atmosféru tohoto šansonového recitálu.Na klavír bude doprovázet přední český pianista Luděk Havel.
LOCATION:Černošice
END:VEVENT
END:VCALENDAR