BEGIN:VCALENDAR
VERSION:2.0
CALSCALE:GREGORIAN
PRODID:-//MyApp//Calendar 1.0//EN
BEGIN:VEVENT
METHOD:PUBLISH
UID:51354@regionalniportaly.cz
DTSTAMP:20260424T033521Z
DTSTART;VALUE=DATE:20250321
DTEND;VALUE=DATE:20250322
SUMMARY:Michele Biondi Band (IT)
DESCRIPTION:Michele Biondi je italský bluesový zpěvák\, skladatel a hráč na elektrickou kytaru\, pocházející z toskánského Ripafratta. Absolvoval rozsáhlé turné po USA a Evropě a vydal tři sólová alba. Jeho druhé album „Cotton &amp\; Moonshine“ získalo v Evropě a USA nadšené uznání za zcela osobitý přístup k tradičnímu blues. Michelova bluesová kariéra je široká a různorodá\, vystupuje na festivalech jako „Natchez Mississippi Celebration“ (USA)\, „Hambone Mississippi Festival“ (USA)\, „British Blues Festival“ (UK)\, „Lugano Blues Nights“ (Švýcarsko)\, „Lucca Blues festival“ (Itálie) a mnoha dalších.Od roku 2015 Michele Biondi hodně cestoval po celém světě a vytvořil si důležité vazby a spolupráci s mnoha americkými a britskými bluesovými umělci\, jako jsou naoř. Ray Cashman\, Rachelle Coba a Stan Street.Kapela hraje v&nbsp\;obsazení Michele Biondi&nbsp\;– zpěv\, kytara\, Giovanni Grasso&nbsp\;– baskytara a Angelo Carmignani&nbsp\;– bicí.&nbsp\;
LOCATION:Černošice
END:VEVENT
END:VCALENDAR