BEGIN:VCALENDAR
VERSION:2.0
CALSCALE:GREGORIAN
PRODID:-//MyApp//Calendar 1.0//EN
BEGIN:VEVENT
METHOD:PUBLISH
UID:51362@regionalniportaly.cz
DTSTAMP:20260424T070523Z
DTSTART;VALUE=DATE:20250327
DTEND;VALUE=DATE:20250328
SUMMARY:Wise 5
DESCRIPTION:DJ s energickými beaty\, kytara\, co dodává groove\, a trombon\, který přidává jedinečný zvuk. Dva zpěváci\, kteří nejen zpívají\, ale i pracují s perkusemi\, aby hudba měla ten správný rytmus. Hrajeme směsici žánrů\, improvizujeme na DJ sety\, ale zvládneme i covery\, které znáte a máte rádi. Každé vystoupení je jiné\, protože se řídíme atmosférou na místě.Pokud chcete na své akci hudbu\, která má šťávu a postará se o skvělou atmosféru\, Wise5 je tu pro vás.Jednoduše\, bez zbytečného okecávání – prostě dobrá muzika.Tak neváhejte a přijďte ve čtvrtek 27.3. od 20.00 do Club Kina na tuto jedinečnou show.V kapele hrají tři známi černošičtí muzikanti Pavel Horák (Timudej)- zpěv\, perkuse\, Filip Jelínek - trombón\, klávesy\, Patrik Hlavenka - kytara dále sestavu doplňuje DJ Adam Kostka a zpěvák Mc Manda.
LOCATION:Černošice
END:VEVENT
END:VCALENDAR