BEGIN:VCALENDAR
VERSION:2.0
CALSCALE:GREGORIAN
PRODID:-//MyApp//Calendar 1.0//EN
BEGIN:VEVENT
METHOD:PUBLISH
UID:51462@regionalniportaly.cz
DTSTAMP:20260424T131149Z
DTSTART;VALUE=DATE:20250306
DTEND;VALUE=DATE:20250307
SUMMARY:The Queen Project (USA)
DESCRIPTION:Perfektní muzikanti a Queen v jazzových úpravách\, toto je projekt klavíristy Waltera a zpěvačky Elisabeth Lohninger. Po úspěšném zdžezování písniček The Beatles přichází Walter Fischbacher s jazzovými transkripcemi těch nejlepších kousků skupiny Queen. Projekt využívá vokálu skvělé americké zpěvačky ELISABETH LOHNINGER (Austria/USA)\, která je uznávána pro svůj pozoruhodný hlasový rozsah a dynamickou práci s hlasem. Těšte se na chytlavé rytmy Freddieho Mercuryho a jeho party a užijte si tuhle hudební jízdu! Srdečně Vás zveme ve čtvrtek 6.3 od 20.00 do Club Kina. Kapela hraje ve složení: &nbsp\;Elisabeth Lohninger (USA) – zpěv\,Walter Phishbacher (USA) – klávesy\,Cliff Schmitt (USA) – baskytara a Andy Winter (USA) – bicí.
LOCATION:Černošice
END:VEVENT
END:VCALENDAR