BEGIN:VCALENDAR
VERSION:2.0
CALSCALE:GREGORIAN
PRODID:-//MyApp//Calendar 1.0//EN
BEGIN:VEVENT
METHOD:PUBLISH
UID:51707@regionalniportaly.cz
DTSTAMP:20260424T020444Z
DTSTART;VALUE=DATE:20250316
DTEND;VALUE=DATE:20250317
SUMMARY:Pan Nikdo proti Putinovi
DESCRIPTION:Pan Nikdo proti Putinovi / David Borenstein\, Pavel Talankin / Dánsko\, Česko / 2025 / 90 min.Válečná propaganda se již mnohokrát stala předmětem velkých děl\, vzpurný učitel ruské &nbsp\;základní školy nyní ukazuje její bezprostřední vpád do každodennosti.Pavel „Paša“ Talankin je nadšený a oblíbený učitel na ruské základní škole. Má rád maloměstský&nbsp\; život\, nevstřícné počasí\, a dokonce i špinavé paneláky. Jeho každodennost naruší válka\, jíž se&nbsp\; jako zaměstnanec výchovné instituce musí stát nástrojem.Ocitá se uprostřed propagandistického aparátu\, který pohlcuje celou společnost. Sám má mimo&nbsp\; jiné za úkol vše s kamerou v ruce dokumentovat. Tento pokyn si však vyloží po svém a&nbsp\; zaznamenává události tak\, jak se skutečně dějí\, nikoliv tak\, jak by si je vojenský režim přál&nbsp\; zobrazovat.Snímek vznikl na základě materiálu\, který Paša vynesl z Ruska\, když pochopil\, že začíná budit&nbsp\; příliš pozornosti a že se kolem něj stahuje smyčka. Režijně ho zaštítil dánský dokumentaristaDavid Borenstein. Vznikl tichý\, intimní\, a právě proto zdrcující obraz pokřivenosti vzdělávacího&nbsp\; systému\, potažmo celé země.Host: Mgr. David Svoboda\, MA\, Ph.D.Zasadit film do širšího historického i politického kontextu po projekci pomůže David Svoboda\, historik specializující se na moderní dějiny Ukrajiny\, ukrajinsko-polské vztahy a osudy Ukrajiny v Sovětském svazu. Léta působil v Ústavu pro studium totalitních režimů a jeho odborné znalosti nabídnou cenný vhled do problematiky propagandy\, vzdělávací politiky a historických souvislostí rusko-ukrajinských vztahů.Beseda poskytne prostor pro hlubší zamyšlení nad tématy\, která film otevírá – jak propaganda ovlivňuje každodenní život\, jaký má dopad na vzdělávání a jak se jednotlivci mohou postavit tlaku totalitního režimu.
LOCATION:Černošice
END:VEVENT
END:VCALENDAR