BEGIN:VCALENDAR
VERSION:2.0
CALSCALE:GREGORIAN
PRODID:-//MyApp//Calendar 1.0//EN
BEGIN:VEVENT
METHOD:PUBLISH
UID:51710@regionalniportaly.cz
DTSTAMP:20260424T070614Z
DTSTART;VALUE=DATE:20250323
DTEND;VALUE=DATE:20250324
SUMMARY:Odstíny Iráku
DESCRIPTION:Odstíny Iráku / Léonard Cohen / Belgie\, Francie / 2024 / 95 min.&nbsp\;Novinář Feurat Alani se vydává na dobrodružnou cestu do vlastních vzpomínek na Irák. &nbsp\;Vybavuje si detaily každodennosti\, která je zasazena do přelomových událostí. &nbsp\;Irácko-francouzský novinář Feurat Alani se u příležitosti smutečního obřadu svého otce vydává &nbsp\;na dobrodružnou cestu do vlastních vzpomínek. Postupně vytváří živý obraz Iráku\, země původu &nbsp\;jeho rodičů. &nbsp\;Vybavuje si poetické detaily každodenního života\, které se odehrávaly na pozadí přelomových &nbsp\;událostí mezi lety 1989 a 2017. Vzpomíná na chuť meruňkové zmrzliny i diktaturu Saddáma &nbsp\;Husajna. Vedle zvuků ulice si vybavuje i příchod amerických vojsk a tzv. Islámského státu. &nbsp\;Animovaný dokumentární film vznikl na základě oceňované životopisné knihy. Je intimním &nbsp\;obrazem Feuratova dospívání i bouřlivé novodobé historie Iráku. &nbsp\;Hostka: Markéta KutilováJaká je role novinářů v konfliktních oblastech? Zveme vás na besedu s novinářkou Markétou Kutilovou z projektu www.reporterky.cz\, která léta mapuje konflikty na Blízkém východě. Spolu s Lenkou Klicperovou dokumentovala válku s Islámským státem\, situaci v Sýrii\, Iráku i Náhorním Karabachu. Je spoluautorkou oceňovaných reportáží a několika knih o válečných konfliktech a migraci.
LOCATION:Černošice
END:VEVENT
END:VCALENDAR