BEGIN:VCALENDAR
VERSION:2.0
CALSCALE:GREGORIAN
PRODID:-//MyApp//Calendar 1.0//EN
BEGIN:VEVENT
METHOD:PUBLISH
UID:52983@regionalniportaly.cz
DTSTAMP:20260424T101832Z
DTSTART;VALUE=DATE:20250529
DTEND;VALUE=DATE:20250530
SUMMARY:Jiří Stivín  & CO Jazz Quartet
DESCRIPTION:Skutečná hvězda nejen českého jazzu\, král dechových nástrojů (a obzvláště fléten\, které ozvláštní už tak výjimečné koncerty této legendy)\, autor mnoha skladeb inspirovaných folklórem\, barokní i středověkou hudbou. Jiří Stivín\, pravý hudební alchymista\, patří k nejuznávanějším českým hudebníkům u nás i v zahraničí. Zároveň neustále hledá nové výzvy a kromě tradičního jazzu čas od času zabrousí i do nejmodernějších odvětví tohoto žánru.
LOCATION:Černošice
END:VEVENT
END:VCALENDAR