BEGIN:VCALENDAR
VERSION:2.0
CALSCALE:GREGORIAN
PRODID:-//MyApp//Calendar 1.0//EN
BEGIN:VEVENT
METHOD:PUBLISH
UID:52984@regionalniportaly.cz
DTSTAMP:20260424T132023Z
DTSTART;VALUE=DATE:20250530
DTEND;VALUE=DATE:20250531
SUMMARY:Big Band Milana Svobody\, Carole Alston (USA) Soul Ožil
DESCRIPTION:
LOCATION:Černošice
END:VEVENT
END:VCALENDAR