BEGIN:VCALENDAR
VERSION:2.0
CALSCALE:GREGORIAN
PRODID:-//MyApp//Calendar 1.0//EN
BEGIN:VEVENT
METHOD:PUBLISH
UID:52987@regionalniportaly.cz
DTSTAMP:20260424T114515Z
DTSTART;VALUE=DATE:20250601
DTEND;VALUE=DATE:20250602
SUMMARY:Kala Zingarica / Iva Bittová a Petr Pavlinec
DESCRIPTION:
LOCATION:Černošice
END:VEVENT
END:VCALENDAR