BEGIN:VCALENDAR
VERSION:2.0
CALSCALE:GREGORIAN
PRODID:-//MyApp//Calendar 1.0//EN
BEGIN:VEVENT
METHOD:PUBLISH
UID:55006@regionalniportaly.cz
DTSTAMP:20260424T150136Z
DTSTART;VALUE=DATE:20250610
DTEND;VALUE=DATE:20250611
SUMMARY:Letní sebepéče s Míšou
DESCRIPTION:Letní sebepéče s Míšou – čas pro Tebe\, konečně!\n \n🧘‍♀️ Cítíš\, že toho máš plné kecky? Že pořád něco musíš\, ale na sebe nezbývá čas? Přijď si na chvíli vydechnout… jen tak. Bez tlaku\, bez cíle. Prostě být.\n \n🌿 Zveme Tě na jedinečný letní program pro ženy v Neratovicích a okolí. V příjemném prostředí přírody se zastavíme\, naladíme na sebe\, a třeba si zase vzpomeneme\, kdo jsme – pod tím vším shonem\, očekáváními a povinnostmi.\n✨ Co Tě čeká:\n\nkrátké procházky a jemné naladění v přírodě\ninspirace k psaní\, zastavení a vnitřnímu klidu\nženská skupina\, kde není třeba být dokonalá\nčas jen pro Tebe – tak\, jak si ho zrovna potřebuješ vzít\n\n📍 Kde: Neratovice a okolní příroda 🗓 Kdy: první setkání už 10. 6. (další termíny volitelné) 🎟 Přihlas se včas\, místa jsou omezená: https://eshop.michaelahlozkova.cz/letni-sebepece-s-misou/\n💬 "Nepotřebuješ se měnit. Jen si dovolit být."
LOCATION:Neratovice
END:VEVENT
END:VCALENDAR