BEGIN:VCALENDAR
VERSION:2.0
CALSCALE:GREGORIAN
PRODID:-//MyApp//Calendar 1.0//EN
BEGIN:VEVENT
METHOD:PUBLISH
UID:55428@regionalniportaly.cz
DTSTAMP:20260424T162352Z
DTSTART;VALUE=DATE:20250614
DTEND;VALUE=DATE:20250615
SUMMARY:Koncert - Xavier Baumaxa
DESCRIPTION:Přijďte si tento podvečerní koncert v srdci ukázkové přírodní zahrady užít samostatně\, nebo účast na něm spojte s návštěvou Zahradní slavnosti\, která bude na stejném místě probíhat od 13 hodin. V rámci Zahradní slavnosti se můžete těšit na chutné občerstvení\, hudební vystoupení nebo dílničky a divadlo pro děti.Těšíme se na viděnou v Klíčku!\nVstupné 250 Kč v předprodeji nebo 300 Kč na místě.Kapacita akce omezena!
LOCATION:Brandýs nad Labem-Stará Boleslav
END:VEVENT
END:VCALENDAR