BEGIN:VCALENDAR
VERSION:2.0
CALSCALE:GREGORIAN
PRODID:-//MyApp//Calendar 1.0//EN
BEGIN:VEVENT
METHOD:PUBLISH
UID:55434@regionalniportaly.cz
DTSTAMP:20260424T163326Z
DTSTART;VALUE=DATE:20250626
DTEND;VALUE=DATE:20250627
SUMMARY:Divadelní představení Limonádový Joe
DESCRIPTION:Inscenace divadla A. Dvořáka z Příbrami v letním kině Houštka.\nV hlavních rolích uvidíte například Aleše Hámu (Horác alias Hogo Fogo)\, Martina Holzknechta (Limonádový Joe) a Václava Rašilova (Doug Badman). PŘEDPRODEJ VSTUPENEK V INFOCENTRU Kočárovna v Brandýse nebo online.
LOCATION:Brandýs nad Labem-Stará Boleslav
END:VEVENT
END:VCALENDAR