BEGIN:VCALENDAR
VERSION:2.0
CALSCALE:GREGORIAN
PRODID:-//MyApp//Calendar 1.0//EN
BEGIN:VEVENT
METHOD:PUBLISH
UID:57031@regionalniportaly.cz
DTSTAMP:20260425T003516Z
DTSTART;VALUE=DATE:20250907
DTEND;VALUE=DATE:20250908
SUMMARY:Dvojkoncert POLE a CIRCUS PROBLEM
DESCRIPTION:POLEČtveřice muzikantů\, co se hledala\, až se našla a v prosinci 2024 vydala první album. V hlavní roli text\, akustická kytara\, chytré aranže i herní provedení. Vítězové autorské Porty 2025\, což Josef Vlček z Headlineru považuje za největší důkaz dokonaného “posunu Porty k různým podobám rocku” a dodává: “Hrají rock\, evidentně inspirovaný Nickem Cavem\, tedy jakýsi neurčitý hudební žánr\, v němž se prolíná kdeco s kdečím.” Bubeník Ondřej Vychodil žije v Černošicích\, frontman Petr Skočdopole má v Dobřichovicích rodiče a celá kapela se moc těší na hraní právě v legendárním Club kině.CIRCUS PROBLEMPražská kapela punkových klaunů\, která je na scéně již 12 let se vyznačuje originální autorskou tvorbou s prvky balkánu\, ska\, chanzonu a worldmusic. Kapela má za sebou celkem 4 studiová alba a vyznačuje se neuvěřitelnou a originální živelností jak na albech\, tak především na podiu. Hluboké texty a nevšední hudební nápady frontmana Jirky Čevely jsou doplněny precizností a citem jeho profesionálních spoluhráčů.
LOCATION:Černošice
END:VEVENT
END:VCALENDAR