BEGIN:VCALENDAR
VERSION:2.0
CALSCALE:GREGORIAN
PRODID:-//MyApp//Calendar 1.0//EN
BEGIN:VEVENT
METHOD:PUBLISH
UID:60914@regionalniportaly.cz
DTSTAMP:20260425T175001Z
DTSTART;VALUE=DATE:20251212
DTEND;VALUE=DATE:20251213
SUMMARY:Adventní degustace vín na zámku Mělník
DESCRIPTION:Chcete ochutnat vína z produkce vinařství Chateau Mělník a Chateau Rousset a podívat se do zámeckého vinného sklepa? Dozvíte se i o historii tohoto unikátního zámeckého vinařství a strávíte příjemné chvíle v zámecké Enotéce. Těšíme se na setkání s vámi.
LOCATION:Mělník
END:VEVENT
END:VCALENDAR