BEGIN:VCALENDAR
VERSION:2.0
CALSCALE:GREGORIAN
PRODID:-//MyApp//Calendar 1.0//EN
BEGIN:VEVENT
METHOD:PUBLISH
UID:61408@regionalniportaly.cz
DTSTAMP:20260426T000346Z
DTSTART;VALUE=DATE:20260212
DTEND;VALUE=DATE:20260213
SUMMARY:VANUA2
DESCRIPTION:Kapela představí písničky z aktuálního debutového alba&nbsp\;Two Of Us&nbsp\;a připomene také částečně repertoár Radima Hladíka a Blue Effect.Kapela Vanua2 vznikla v roce 2017 spojením excelentních hudebníků Blue Effectu s jedním z nejlepších nových hlasů na české scéně\, zpěvákem Yannickem Tevi z ostrova Vanuatu.&nbsp\;Jeho „sealovský“ hlas je velmi charizmatický a interpretuje niterné a velmi osobní texty. Žánrově se jejich písně pohybují na pomezí popu\, rocku a soulu\, a mají autentický zvuk postavený na originálních groovech. Rytmika legendárního Blue Effectu\, bubeník Václav Zima a baskytarista Wojttech Říha\, kytarista Jan Samek a zpěvák Yannick Tevi\, tvoří sehranou kapelu\, která podává strhující výkony na klubových i festivalových vystoupeních.Účinkují:Yannick Tevi&nbsp\;– zpěv\,&nbsp\;Jan Samek&nbsp\;– kytary\,&nbsp\;Wojttech Říha&nbsp\;– basa\,&nbsp\;Václav Zima&nbsp\;– bicí.Předprodej vstupenek: Music club Dundee Jam\, nám. Svobody 1626 Kladno&nbsp\;a on-line smsticket.
LOCATION:Kladno
END:VEVENT
END:VCALENDAR