BEGIN:VCALENDAR
VERSION:2.0
CALSCALE:GREGORIAN
PRODID:-//MyApp//Calendar 1.0//EN
BEGIN:VEVENT
METHOD:PUBLISH
UID:62925@regionalniportaly.cz
DTSTAMP:20260422T215835Z
DTSTART;VALUE=DATE:20260501
DTEND;VALUE=DATE:20260502
SUMMARY:Mrtví Fest
DESCRIPTION:První ročník rockpunkového festivalu na kterém vystoupí kapely:MUDr. FakerRaďouch DCThe Flat CapsŠvagrův punkVHSMrtví jdou
LOCATION:Černošice
END:VEVENT
END:VCALENDAR