BEGIN:VCALENDAR
VERSION:2.0
CALSCALE:GREGORIAN
PRODID:-//MyApp//Calendar 1.0//EN
BEGIN:VEVENT
METHOD:PUBLISH
UID:64285@regionalniportaly.cz
DTSTAMP:20260422T055937Z
DTSTART;VALUE=DATE:20260704
DTEND;VALUE=DATE:20260705
SUMMARY:Jaroslav Dušek – Čtyři dohody
DESCRIPTION:Jaroslav Dušek – Čtyři dohody ve spolupráci s Klubem LávkaVychutnejte si osobité představení průvodce vlastní svobodou a zamyšlením nad sebou samým&nbsp\;v podání nezapomenutelného Jaroslava Duška. Ten&nbsp\;představí Čtyři dohody od mexického spisovatele Dona Miguela Ruize\, které již několik let inspirují miliony čtenářů po celém světě. Čtyři základní principy pro život plný nových prožitků\, svobody\, opravdového štěstí a lásky vycházejících z modrosti Toltéků aplikovaných na dnešní dobu: nehřešte slovem\, neberte si nic osobně\, nevytvářejte si žádné domněnky a vždy dělejte vše\, jak nejlépe dovedete.&nbsp\;Účinkují: Jaroslav Dušek\, Pjér La Š´éz a Zdeněk KonopásekPředstavení se hraje bez přestávky\, délka představení je cca 2 hodiny.Based on the book The Four Agreements © 1997 by Miguel Angel Ruiz\, M.D. and JanetMills. Produced with permission of Amber-Allen Publishing\, Inc. P.O. Box 6657\, San Rafael\,CA 94903. All rights reserved.
LOCATION:Říčany
END:VEVENT
END:VCALENDAR