BEGIN:VCALENDAR
VERSION:2.0
CALSCALE:GREGORIAN
PRODID:-//MyApp//Calendar 1.0//EN
BEGIN:VEVENT
METHOD:PUBLISH
UID:64286@regionalniportaly.cz
DTSTAMP:20260422T055946Z
DTSTART;VALUE=DATE:20260705
DTEND;VALUE=DATE:20260706
SUMMARY:Jaroslav Dušek – Pátá dohoda
DESCRIPTION:Jaroslav Dušek – Čtyři dohody ve spolupráci s Klubem LávkaPředstavení nás zavádí do hlubší roviny našeho sebeuvědomování a navrací nás k našemu vrozenému pravému já.&nbsp\;Výsledkem praktikování páté dohody je naprosté přijetí sebe sama takových\, jací jsme\, a naprosté přijetí všech ostatních lidí takových\, jací jsou. Pátá dohoda chce přinést lidem na celém světě svobodu být sami sebou\,Kouzelné představení plné pravd v neotřelém a humorném pojetí Jaroslava Duška.Účinkují: Jaroslav Dušek\, Pjér La Š´éz a Zdeněk KonopásekPředstavení se hraje bez přestávky\, délka představení je cca 2 hodiny.Based on the book The Fifth Agreement © 2010 by Miguel Angel Ruiz\, M.D.\, Jose Luis Ruiz\,and Janet Mills. Produced with permission of Amber-Allen Publishing\, Inc. P.O. Box 6657\, San Rafael\, CA 94903. All rights reserved.
LOCATION:Říčany
END:VEVENT
END:VCALENDAR