BEGIN:VCALENDAR
VERSION:2.0
CALSCALE:GREGORIAN
PRODID:-//MyApp//Calendar 1.0//EN
BEGIN:VEVENT
METHOD:PUBLISH
UID:64816@regionalniportaly.cz
DTSTAMP:20260423T093603Z
DTSTART;VALUE=DATE:20260416
DTEND;VALUE=DATE:20260419
SUMMARY:Regiony České republiky 2026
DESCRIPTION:25. veletrh měst\, obcí\, mikroregionů a informačních center České republikyVeletrh Regiony České republiky 2026\, který se koná 16.–19. dubna 2026 na výstavišti v Lysé nad Labem\, je 25. společným veletrhem měst\, obcí\, mikroregionů a informačních center České republiky. Přijďte s námi na cestu za krásami naší země\, objevte regionální destinace\, které Česko skutečně nabízí.\nNa veletrhu se představí tituly regionů a měst\, jejich turistické úspěchy\, kulturní až po novinky v oblasti cestovního ruchu a udržitelné turistiky.\nPro návštěvníky je to jedinečná příležitost získat inspiraci pro víkendy\, výlety i delší pobyty: porovnat nabídky regionů\, získat tipy od místních odborníků a najít skrytá místa Česka\, která doposud možná přehlíželi.\nPro vystavovatele je Regiony ČR 2026 ideálním prostorem k navázání kontaktů s veřejností i partnery\, města\, obce\, mikroregiony a informační centra mohou aktivně prezentovat svůj potenciál\, získat zájem nových návštěvníků a posílit svou značku. Účast zde znamená větší viditelnost\, nové příležitosti a reálné možnosti rozvoje cestovního ruchu a regionálního podnikání.\nPřijďte objevit skryté kouty České republiky a staňte se součástí platformy\, kde se spojují regionální tradice\, inovace a cestovatelská inspirace. Součástí akce jsou také výstava NARCIS a veletrh Elegance – Avantgarda\, zaměřený na módu\, šperky a vše\, co s elegancí souvisí\, takže návštěvníci mohou během jedné návštěvy získat inspiraci nejen pro cestování\, ale i životní styl. Regiony České republiky 2026 – místo\, kde vaše cesta začíná.
LOCATION:Lysá nad Labem
END:VEVENT
END:VCALENDAR