BEGIN:VCALENDAR
VERSION:2.0
CALSCALE:GREGORIAN
PRODID:-//MyApp//Calendar 1.0//EN
BEGIN:VEVENT
METHOD:PUBLISH
UID:65684@regionalniportaly.cz
DTSTAMP:20260421T223850Z
DTSTART;VALUE=DATE:20260530
DTEND;VALUE=DATE:20260531
SUMMARY:TGJ EXHIBICE 2026 | 20TH ANNIVERSARY
DESCRIPTION:TEAMGJ EXHIBICE 2026 – SLAVÍME 20 LET!&nbsp\;Zveme Vás na naší výroční Exhibici\, která bude letos naprosto výjimečná. Nejenže uzavřeme další úspěšnou taneční sezónu\, ale společně oslavíme neuvěřitelných 20 let od založení TEAMGJ!&nbsp\;Na akci vystoupí naši tanečníci&nbsp\;– od těch nejmenších dětí až po naše profi složky. Přijďte se podívat\, kam jsme se za těch 20 let posunuli!Afterparty v ceně! Oslava samotnou Exhibicí nekončí! Vaše vstupenka na Exhibici slouží zároveň jako vstupenka na afterparty v Ark Bar Říčany.&nbsp\;Důležité informace: Lístky nejsou vázány na konkrétní místo (volné sezení/stání). Doporučujeme s koupí neváhat\, kapacita je omezená!Sledujte nás: Pro aktuální info o akci nás sledujte na našem Instagramu: @teamgjcrewTěšíme se na vás!&nbsp\;
LOCATION:Říčany
END:VEVENT
END:VCALENDAR