BEGIN:VCALENDAR
VERSION:2.0
CALSCALE:GREGORIAN
PRODID:-//MyApp//Calendar 1.0//EN
BEGIN:VEVENT
METHOD:PUBLISH
UID:65716@regionalniportaly.cz
DTSTAMP:20260422T012627Z
DTSTART;VALUE=DATE:20260515
DTEND;VALUE=DATE:20260516
SUMMARY:The Los Angeles Side Hustle & Dobré ráno blues band
DESCRIPTION:LASH poprvé v&nbsp\;ČR\, první ze dvou koncertů.&nbsp\;The Los Angeles Side HustleBILL BARRETT - jeden z nejlepších světových hráčů na foukací harmoniku a vynikající zpěvák. Během třicetileté kariéry vystupoval a nahrával s mnoha světoznámými umělci i orchestry\, například s L.A. Philharmonic\, The Kronos Quartet nebo Natalie Merchant\, ve skupině The Neptune Blues Club po boku kytaristy Marca Forda (dř. The Black Crowes) nebo bubeníka Stephena Hodgese (hrál a natáčel s Tomem Waitsem jeho nejlepší alba)...MARCUS WATKINS - Marcus vystupoval&nbsp\; vystupoval po celém světě a nahrával s mnoha různými umělci (mj. Nina Hagen\, Eric Burdon\, Johnny Hallyday\, Lucinda Williams….). Jeho hru na kytaru lze slyšet na mnoha nahrávkách\, ve filmech a televizních programech. Marcus je úspěšný i jako skladatel a textař. Nahráno bylo mnoho jeho skladeb od filmové hudby/soundtracků (I Love You Man) až po legendární umělce (Eric Burdon).ERIC HOLDEN - Baskytarista a producent Eric Holden spolupracuje s indie\, velkými nahrávacími společnostmi a hvězdnými umělci již léta. Mezi ty\, s nimiž nahrával\, patří The BoDeans\, David Foster\, John Williams\, Josie Cotton\, Nina Hagen\, The Weepies\, Adrianne Gonzalez\, Five For Fighting\, Richard Marx či Josh Groban…. Účastnil se turné se Shakirou\, The BoDeans\, Vertical Horizon\, Joshem Grobanem\, Leehom Wangem\, Five For Fighting a mnoha dalšími. Můžete ho slyšet a vidět na DVD „Live“ a „Live at the Greek“ od Joshe Grobana\, DVD „Live in Paris“ od Shakiry…Dobré ráno blues bandVLÁĎA SOSNA – Bubeník a showman\, hrával&nbsp\; mimo jiné s Petrou Janů\, Marikou Gombitovou\, Ondřejem Havelkou i v Abraxas. Objevil se ve filmu Akumulátor a seriálu Četnické humoresky. BRYNN STEPHENS – zpěvák a hráč na foukací harmoniku. Rodák z kalifornského Los Angeles. Zpíval v blues bandu legendárního kytaristy Luboše Andršta. VÍTEK KOPECKÝ – vynikající kytarista. Spolupracoval s Ivanem Hlasem a kapelou Vanua2.
LOCATION:Beroun
END:VEVENT
END:VCALENDAR