BEGIN:VCALENDAR
VERSION:2.0
CALSCALE:GREGORIAN
PRODID:-//MyApp//Calendar 1.0//EN
BEGIN:VEVENT
METHOD:PUBLISH
UID:65802@regionalniportaly.cz
DTSTAMP:20260423T062516Z
DTSTART;VALUE=DATE:20261031
DTEND;VALUE=DATE:20261101
SUMMARY:Halloween party
DESCRIPTION:Vstup do halloweenské noci plné beatů\, tance a energie.&nbsp\;Připrav se na noc\, kdy se realita míchá s fantazií a nikdo není tím\, kým se zdá.&nbsp\;Na jednu noc můžeš být kýmkoli. 👻 Maska není doplněk\, je to tvé druhé já.Na nic nečekej a užij si party s DJs\, co tě nenechají jen stát.&nbsp\;&nbsp\;Strašidelně dobrý line-up:20:00 SAXOFRANCIS22:00 ALYX B2B YKP0:00 SAABA&nbsp\;⏰ Open doors: 19:30✅ Vstup:&nbsp\;16+👗 Dresscode: Halloween🏅 Soutěž o nejlepší masku.
LOCATION:Čelákovice
END:VEVENT
END:VCALENDAR