BEGIN:VCALENDAR
VERSION:2.0
CALSCALE:GREGORIAN
PRODID:-//MyApp//Calendar 1.0//EN
BEGIN:VEVENT
METHOD:PUBLISH
UID:65803@regionalniportaly.cz
DTSTAMP:20260423T062741Z
DTSTART;VALUE=DATE:20261031
DTEND;VALUE=DATE:20261101
SUMMARY:Halloweenská kostýmová party - pro děti
DESCRIPTION:Strašidelná zábava pro všechny děti a jejich rodiče! 👻Proměň se v čarodějnici\, ducha\, upíra\, nebo třeba v něco\, co ještě svět neviděl... 🎃 Přijď si užít halloweenské odpoledne plné tance\, her a soutěží. Těšit se taky můžeš na tajemné animátorky\, které si pro tebe připravily spoustu strašidelně skvělé zábavy. A nezapomeň - bude i velká soutěž o nejlepší kostým! 🏅🧟Konec akce v&nbsp\;17:00 hodin.
LOCATION:Čelákovice
END:VEVENT
END:VCALENDAR