BEGIN:VCALENDAR
VERSION:2.0
CALSCALE:GREGORIAN
PRODID:-//MyApp//Calendar 1.0//EN
BEGIN:VEVENT
METHOD:PUBLISH
UID:65806@regionalniportaly.cz
DTSTAMP:20260423T062604Z
DTSTART;VALUE=DATE:20260527
DTEND;VALUE=DATE:20260528
SUMMARY:4. veľká konferencia POĽNOHOSPODÁRSTVO BUDÚCNOSTI
DESCRIPTION:Cieľom tejto konferencie je pomenovať hlavné výzvy a predovšetkým ponúknuť konkrétne\, praktické riešenia\, ktoré je možné aplikovať v reálnych podmienkach nášho&nbsp\;poľnohospodárstva.Program podujatiaKonferencia je koncipovaná ako celodenné odborné stretnutie\, ktoré kombinuje:dopoludňajší blok odborných prednášokpopoludňajšie praktické workshopy v menších skupináchpriestor na diskusiu\, zdieľanie skúseností a osobné stretnutia s odborníkmi
LOCATION:Hostivice
END:VEVENT
END:VCALENDAR