BEGIN:VCALENDAR
VERSION:2.0
CALSCALE:GREGORIAN
PRODID:-//MyApp//Calendar 1.0//EN
BEGIN:VEVENT
METHOD:PUBLISH
UID:65816@regionalniportaly.cz
DTSTAMP:20260423T114637Z
DTSTART;VALUE=DATE:20260425
DTEND;VALUE=DATE:20260426
SUMMARY:Víkendová nabídka menu
DESCRIPTION:Milí hosté\, opět tady zveřejňujeme vaši oblíbenou víkendovou nabídku menu. \nTěšíme se na vaši návštěvu   :)
LOCATION:Zastávka
END:VEVENT
END:VCALENDAR