BEGIN:VCALENDAR
VERSION:2.0
CALSCALE:GREGORIAN
PRODID:-//MyApp//Calendar 1.0//EN
BEGIN:VEVENT
METHOD:PUBLISH
UID:65835@regionalniportaly.cz
DTSTAMP:20260423T223817Z
DTSTART;VALUE=DATE:20260505
DTEND;VALUE=DATE:20260506
SUMMARY:Olivova dětská léčebna v Říčanech
DESCRIPTION:Kdy: 5. května 2026 ve 14:00 hodinKde: Olivova dětská léčebna\, oddělení „B“Sraz: před recepcí
LOCATION:Říčany
END:VEVENT
END:VCALENDAR