BEGIN:VCALENDAR
VERSION:2.0
CALSCALE:GREGORIAN
PRODID:-//MyApp//Calendar 1.0//EN
BEGIN:VEVENT
METHOD:PUBLISH
UID:65871@regionalniportaly.cz
DTSTAMP:20260424T101331Z
DTSTART;VALUE=DATE:20260512
DTEND;VALUE=DATE:20260513
SUMMARY:Breezy Rodio Band original Chigago Blues (USA)
DESCRIPTION:Breezy Rodio je&nbsp\;hudebník z Chicaga\, Illinois\, USA.&nbsp\;Hraje&nbsp\;mix starší bluesové školy a modernějšího elektrického soulu a blues.&nbsp\;Koncertní program je směsí&nbsp\;originálních skladeb a předělávek bluesové klasiky.&nbsp\;Jeho album „Underground Blues“\, nahrané v Austinu v Texasu s texaskou bluesovou legendou&nbsp\;Ansonem Funderburghem&nbsp\;v roce 2022\, získalo nadšené recenze po celém světě. Přečtěme si\, co o něm napsal americký časopis LIVING BLUES. Zpěvák\, kytarista a skladatel Breezy Rodio\, pyšnící se mixem tradičního a moderního blues\, soulu a R&amp\;B\, se postupně stal klíčovou postavou nejen chicagské bluesové scény. V&nbsp\;kapele ho doplní osvědčená česká rytmika Jakub Hlobil&nbsp\;– baskytara a Josef Hlobil na bicí. Srdečně Vás zveme v&nbsp\;úterý 12.5. od 20.00 do Club Kina.
LOCATION:Černošice
END:VEVENT
END:VCALENDAR